BEGIN:VCALENDAR
VERSION:2.0
PRODID:-//Netzwerk Immo - ECPv6.9.0//NONSGML v1.0//EN
CALSCALE:GREGORIAN
METHOD:PUBLISH
X-ORIGINAL-URL:https://netzwerk.immo
X-WR-CALDESC:Veranstaltungen für Netzwerk Immo
REFRESH-INTERVAL;VALUE=DURATION:PT1H
X-Robots-Tag:noindex
X-PUBLISHED-TTL:PT1H
BEGIN:VTIMEZONE
TZID:Europe/Berlin
BEGIN:DAYLIGHT
TZOFFSETFROM:+0100
TZOFFSETTO:+0200
TZNAME:CEST
DTSTART:20250330T010000
END:DAYLIGHT
BEGIN:STANDARD
TZOFFSETFROM:+0200
TZOFFSETTO:+0100
TZNAME:CET
DTSTART:20251026T010000
END:STANDARD
END:VTIMEZONE
BEGIN:VEVENT
DTSTART;TZID=Europe/Berlin:20251124T140000
DTEND;TZID=Europe/Berlin:20251124T150000
DTSTAMP:20260423T231812
CREATED:20251104T100830Z
LAST-MODIFIED:20251104T100933Z
UID:10000134-1763992800-1763996400@netzwerk.immo
SUMMARY:Webinar Energiewende bezahlbar meistern
DESCRIPTION:Fachseminar: neuester Stand der Heizungstechnik sowie Konsequenzen\, die sich daraus für die Hausverwaltungen ergeben
URL:https://netzwerk.immo/event/webinar-energiewende-bezahlbar-meistern-69/
CATEGORIES:Videotermin
ATTACH;FMTTYPE=image/png:https://netzwerk.immo/wp-content/uploads/2025/01/Energiewende.png
ORGANIZER;CN="Netzwerk.Immo":MAILTO:service@netzwerk.immo
END:VEVENT
BEGIN:VEVENT
DTSTART;TZID=Europe/Berlin:20251124T163000
DTEND;TZID=Europe/Berlin:20251124T173000
DTSTAMP:20260423T231812
CREATED:20251104T100652Z
LAST-MODIFIED:20251104T100654Z
UID:10000132-1764001800-1764005400@netzwerk.immo
SUMMARY:Webinar Energiewende bezahlbar meistern
DESCRIPTION:Fachseminar: neuester Stand der Heizungstechnik sowie Konsequenzen\, die sich daraus für die Hausverwaltungen ergeben
URL:https://netzwerk.immo/event/webinar-energiewende-bezahlbar-meistern-67/
CATEGORIES:Videotermin
ATTACH;FMTTYPE=image/png:https://netzwerk.immo/wp-content/uploads/2025/01/Energiewende.png
ORGANIZER;CN="Netzwerk.Immo":MAILTO:service@netzwerk.immo
END:VEVENT
END:VCALENDAR