BEGIN:VCALENDAR
VERSION:2.0
PRODID:-//Netzwerk Immo - ECPv6.9.0//NONSGML v1.0//EN
CALSCALE:GREGORIAN
METHOD:PUBLISH
X-ORIGINAL-URL:https://netzwerk.immo
X-WR-CALDESC:Veranstaltungen für Netzwerk Immo
REFRESH-INTERVAL;VALUE=DURATION:PT1H
X-Robots-Tag:noindex
X-PUBLISHED-TTL:PT1H
BEGIN:VTIMEZONE
TZID:Europe/Berlin
BEGIN:DAYLIGHT
TZOFFSETFROM:+0100
TZOFFSETTO:+0200
TZNAME:CEST
DTSTART:20250330T010000
END:DAYLIGHT
BEGIN:STANDARD
TZOFFSETFROM:+0200
TZOFFSETTO:+0100
TZNAME:CET
DTSTART:20251026T010000
END:STANDARD
END:VTIMEZONE
BEGIN:VEVENT
DTSTART;TZID=Europe/Berlin:20251201T140000
DTEND;TZID=Europe/Berlin:20251201T150000
DTSTAMP:20260423T202144
CREATED:20251104T101014Z
LAST-MODIFIED:20251104T101016Z
UID:10000135-1764597600-1764601200@netzwerk.immo
SUMMARY:Webinar Energiewende bezahlbar meistern
DESCRIPTION:Fachseminar: neuester Stand der Heizungstechnik sowie Konsequenzen\, die sich daraus für die Hausverwaltungen ergeben
URL:https://netzwerk.immo/event/webinar-energiewende-bezahlbar-meistern-70/
CATEGORIES:Videotermin
ATTACH;FMTTYPE=image/png:https://netzwerk.immo/wp-content/uploads/2025/01/Energiewende.png
ORGANIZER;CN="Netzwerk.Immo":MAILTO:service@netzwerk.immo
END:VEVENT
BEGIN:VEVENT
DTSTART;TZID=Europe/Berlin:20251201T163000
DTEND;TZID=Europe/Berlin:20251201T173000
DTSTAMP:20260423T202144
CREATED:20251104T101044Z
LAST-MODIFIED:20251104T101047Z
UID:10000136-1764606600-1764610200@netzwerk.immo
SUMMARY:Webinar Energiewende bezahlbar meistern
DESCRIPTION:Fachseminar: neuester Stand der Heizungstechnik sowie Konsequenzen\, die sich daraus für die Hausverwaltungen ergeben
URL:https://netzwerk.immo/event/webinar-energiewende-bezahlbar-meistern-71/
CATEGORIES:Videotermin
ATTACH;FMTTYPE=image/png:https://netzwerk.immo/wp-content/uploads/2025/01/Energiewende.png
ORGANIZER;CN="Netzwerk.Immo":MAILTO:service@netzwerk.immo
END:VEVENT
BEGIN:VEVENT
DTSTART;TZID=Europe/Berlin:20251208T140000
DTEND;TZID=Europe/Berlin:20251208T150000
DTSTAMP:20260423T202144
CREATED:20251104T101204Z
LAST-MODIFIED:20251104T101206Z
UID:10000138-1765202400-1765206000@netzwerk.immo
SUMMARY:Webinar Energiewende bezahlbar meistern
DESCRIPTION:Fachseminar: neuester Stand der Heizungstechnik sowie Konsequenzen\, die sich daraus für die Hausverwaltungen ergeben
URL:https://netzwerk.immo/event/webinar-energiewende-bezahlbar-meistern-73/
CATEGORIES:Videotermin
ATTACH;FMTTYPE=image/png:https://netzwerk.immo/wp-content/uploads/2025/01/Energiewende.png
ORGANIZER;CN="Netzwerk.Immo":MAILTO:service@netzwerk.immo
END:VEVENT
END:VCALENDAR