BEGIN:VCALENDAR
VERSION:2.0
PRODID:-//Netzwerk Immo - ECPv6.9.0//NONSGML v1.0//EN
CALSCALE:GREGORIAN
METHOD:PUBLISH
X-WR-CALNAME:Netzwerk Immo
X-ORIGINAL-URL:https://netzwerk.immo
X-WR-CALDESC:Veranstaltungen für Netzwerk Immo
REFRESH-INTERVAL;VALUE=DURATION:PT1H
X-Robots-Tag:noindex
X-PUBLISHED-TTL:PT1H
BEGIN:VTIMEZONE
TZID:Europe/Berlin
BEGIN:DAYLIGHT
TZOFFSETFROM:+0100
TZOFFSETTO:+0200
TZNAME:CEST
DTSTART:20260329T010000
END:DAYLIGHT
BEGIN:STANDARD
TZOFFSETFROM:+0200
TZOFFSETTO:+0100
TZNAME:CET
DTSTART:20261025T010000
END:STANDARD
END:VTIMEZONE
BEGIN:VEVENT
DTSTART;TZID=Europe/Berlin:20260302T140000
DTEND;TZID=Europe/Berlin:20260302T150000
DTSTAMP:20260423T161232
CREATED:20260223T124646Z
LAST-MODIFIED:20260223T125907Z
UID:10000144-1772460000-1772463600@netzwerk.immo
SUMMARY:Webinar Energiewende bezahlbar meistern
DESCRIPTION:Fachseminar: neuester Stand der Heizungstechnik sowie Konsequenzen\, die sich daraus für die Hausverwaltungen ergeben
URL:https://netzwerk.immo/event/webinar-energiewende-bezahlbar-meistern-77/
CATEGORIES:Videotermin
ATTACH;FMTTYPE=image/png:https://netzwerk.immo/wp-content/uploads/2025/01/Energiewende.png
ORGANIZER;CN="Netzwerk.Immo":MAILTO:service@netzwerk.immo
END:VEVENT
BEGIN:VEVENT
DTSTART;TZID=Europe/Berlin:20260309T140000
DTEND;TZID=Europe/Berlin:20260309T150000
DTSTAMP:20260423T161232
CREATED:20260223T130034Z
LAST-MODIFIED:20260223T130037Z
UID:10000145-1773064800-1773068400@netzwerk.immo
SUMMARY:Webinar Energiewende bezahlbar meistern
DESCRIPTION:Fachseminar: neuester Stand der Heizungstechnik sowie Konsequenzen\, die sich daraus für die Hausverwaltungen ergeben
URL:https://netzwerk.immo/event/webinar-energiewende-bezahlbar-meistern-78/
CATEGORIES:Videotermin
ATTACH;FMTTYPE=image/png:https://netzwerk.immo/wp-content/uploads/2025/01/Energiewende.png
ORGANIZER;CN="Netzwerk.Immo":MAILTO:service@netzwerk.immo
END:VEVENT
BEGIN:VEVENT
DTSTART;TZID=Europe/Berlin:20260316T140000
DTEND;TZID=Europe/Berlin:20260316T150000
DTSTAMP:20260423T161232
CREATED:20260223T130058Z
LAST-MODIFIED:20260223T130101Z
UID:10000146-1773669600-1773673200@netzwerk.immo
SUMMARY:Webinar Energiewende bezahlbar meistern
DESCRIPTION:Fachseminar: neuester Stand der Heizungstechnik sowie Konsequenzen\, die sich daraus für die Hausverwaltungen ergeben
URL:https://netzwerk.immo/event/webinar-energiewende-bezahlbar-meistern-79/
CATEGORIES:Videotermin
ATTACH;FMTTYPE=image/png:https://netzwerk.immo/wp-content/uploads/2025/01/Energiewende.png
ORGANIZER;CN="Netzwerk.Immo":MAILTO:service@netzwerk.immo
END:VEVENT
BEGIN:VEVENT
DTSTART;TZID=Europe/Berlin:20260316T163000
DTEND;TZID=Europe/Berlin:20260316T173000
DTSTAMP:20260423T161232
CREATED:20260306T152116Z
LAST-MODIFIED:20260306T152511Z
UID:10000149-1773678600-1773682200@netzwerk.immo
SUMMARY:Webinar Energiewende bezahlbar meistern
DESCRIPTION:Fachseminar: neuester Stand der Heizungstechnik sowie Konsequenzen\, die sich daraus für die Hausverwaltungen ergeben
URL:https://netzwerk.immo/event/webinar-energiewende-bezahlbar-meistern-82/
CATEGORIES:Videotermin
ATTACH;FMTTYPE=image/png:https://netzwerk.immo/wp-content/uploads/2025/01/Energiewende.png
ORGANIZER;CN="Netzwerk.Immo":MAILTO:service@netzwerk.immo
END:VEVENT
BEGIN:VEVENT
DTSTART;TZID=Europe/Berlin:20260323T140000
DTEND;TZID=Europe/Berlin:20260323T150000
DTSTAMP:20260423T161232
CREATED:20260223T130127Z
LAST-MODIFIED:20260223T130130Z
UID:10000147-1774274400-1774278000@netzwerk.immo
SUMMARY:Webinar Energiewende bezahlbar meistern
DESCRIPTION:Fachseminar: neuester Stand der Heizungstechnik sowie Konsequenzen\, die sich daraus für die Hausverwaltungen ergeben
URL:https://netzwerk.immo/event/webinar-energiewende-bezahlbar-meistern-80/
CATEGORIES:Videotermin
ATTACH;FMTTYPE=image/png:https://netzwerk.immo/wp-content/uploads/2025/01/Energiewende.png
ORGANIZER;CN="Netzwerk.Immo":MAILTO:service@netzwerk.immo
END:VEVENT
BEGIN:VEVENT
DTSTART;TZID=Europe/Berlin:20260330T140000
DTEND;TZID=Europe/Berlin:20260330T150000
DTSTAMP:20260423T161232
CREATED:20260223T130237Z
LAST-MODIFIED:20260223T130239Z
UID:10000148-1774879200-1774882800@netzwerk.immo
SUMMARY:Webinar Energiewende bezahlbar meistern
DESCRIPTION:Fachseminar: neuester Stand der Heizungstechnik sowie Konsequenzen\, die sich daraus für die Hausverwaltungen ergeben
URL:https://netzwerk.immo/event/webinar-energiewende-bezahlbar-meistern-81/
CATEGORIES:Videotermin
ATTACH;FMTTYPE=image/png:https://netzwerk.immo/wp-content/uploads/2025/01/Energiewende.png
ORGANIZER;CN="Netzwerk.Immo":MAILTO:service@netzwerk.immo
END:VEVENT
END:VCALENDAR