BEGIN:VCALENDAR
VERSION:2.0
PRODID:-//Netzwerk Immo - ECPv6.9.0//NONSGML v1.0//EN
CALSCALE:GREGORIAN
METHOD:PUBLISH
X-WR-CALNAME:Netzwerk Immo
X-ORIGINAL-URL:https://netzwerk.immo
X-WR-CALDESC:Veranstaltungen für Netzwerk Immo
REFRESH-INTERVAL;VALUE=DURATION:PT1H
X-Robots-Tag:noindex
X-PUBLISHED-TTL:PT1H
BEGIN:VTIMEZONE
TZID:Europe/Berlin
BEGIN:DAYLIGHT
TZOFFSETFROM:+0100
TZOFFSETTO:+0200
TZNAME:CEST
DTSTART:20230326T010000
END:DAYLIGHT
BEGIN:STANDARD
TZOFFSETFROM:+0200
TZOFFSETTO:+0100
TZNAME:CET
DTSTART:20231029T010000
END:STANDARD
BEGIN:DAYLIGHT
TZOFFSETFROM:+0100
TZOFFSETTO:+0200
TZNAME:CEST
DTSTART:20240331T010000
END:DAYLIGHT
BEGIN:STANDARD
TZOFFSETFROM:+0200
TZOFFSETTO:+0100
TZNAME:CET
DTSTART:20241027T010000
END:STANDARD
END:VTIMEZONE
BEGIN:VEVENT
DTSTART;TZID=Europe/Berlin:20241104T163000
DTEND;TZID=Europe/Berlin:20241104T173000
DTSTAMP:20260424T040617
CREATED:20241022T092111Z
LAST-MODIFIED:20241022T092113Z
UID:10000057-1730737800-1730741400@netzwerk.immo
SUMMARY:Seminar Heizrevolution 2024
DESCRIPTION:Fachseminar: neuester Stand der Heizungstechnik sowie Konsequenzen\, die sich daraus für die Hausverwaltungen ergeben
URL:https://netzwerk.immo/event/seminar-heizrevolution-2024-30/
CATEGORIES:Videotermin
ATTACH;FMTTYPE=image/png:https://netzwerk.immo/wp-content/uploads/2023/11/NetzwerImmo2.png
ORGANIZER;CN="Netzwerk.Immo":MAILTO:service@netzwerk.immo
END:VEVENT
BEGIN:VEVENT
DTSTART;TZID=Europe/Berlin:20241028T160000
DTEND;TZID=Europe/Berlin:20241028T170000
DTSTAMP:20260424T040617
CREATED:20240820T081408Z
LAST-MODIFIED:20241022T091637Z
UID:10000055-1730131200-1730134800@netzwerk.immo
SUMMARY:Seminar Heizrevolution 2024
DESCRIPTION:Fachseminar: neuester Stand der Heizungstechnik sowie Konsequenzen\, die sich daraus für die Hausverwaltungen ergeben
URL:https://netzwerk.immo/event/seminar-heizrevolution-2024-29/
CATEGORIES:Videotermin
ATTACH;FMTTYPE=image/png:https://netzwerk.immo/wp-content/uploads/2023/11/NetzwerImmo2.png
ORGANIZER;CN="Netzwerk.Immo":MAILTO:service@netzwerk.immo
END:VEVENT
BEGIN:VEVENT
DTSTART;TZID=Europe/Berlin:20241021T170000
DTEND;TZID=Europe/Berlin:20241021T170000
DTSTAMP:20260424T040617
CREATED:20240820T081136Z
LAST-MODIFIED:20240930T154722Z
UID:10000053-1729530000-1729530000@netzwerk.immo
SUMMARY:Seminar Heizrevolution 2024
DESCRIPTION:Fachseminar: neuester Stand der Heizungstechnik sowie Konsequenzen\, die sich daraus für die Hausverwaltungen ergeben
URL:https://netzwerk.immo/event/seminar-heizrevolution-2024-27/
CATEGORIES:Videotermin
ATTACH;FMTTYPE=image/png:https://netzwerk.immo/wp-content/uploads/2023/11/NetzwerImmo2.png
ORGANIZER;CN="Netzwerk.Immo":MAILTO:service@netzwerk.immo
END:VEVENT
BEGIN:VEVENT
DTSTART;TZID=Europe/Berlin:20241014T140000
DTEND;TZID=Europe/Berlin:20241014T150000
DTSTAMP:20260424T040617
CREATED:20241007T090215Z
LAST-MODIFIED:20241007T090449Z
UID:10000056-1728914400-1728918000@netzwerk.immo
SUMMARY:Seminar GEG - Lösungen für die Hausverwaltung
DESCRIPTION:Fachseminar: neuester Stand der Heizungstechnik sowie Konsequenzen\, die sich daraus für die Hausverwaltungen ergeben
URL:https://netzwerk.immo/event/seminar-geg-loesungen-fuer-die-hausverwaltung/
CATEGORIES:Videotermin
ATTACH;FMTTYPE=image/png:https://netzwerk.immo/wp-content/uploads/2023/11/NetzwerImmo2.png
ORGANIZER;CN="Netzwerk.Immo":MAILTO:service@netzwerk.immo
END:VEVENT
BEGIN:VEVENT
DTSTART;TZID=Europe/Berlin:20241007T160000
DTEND;TZID=Europe/Berlin:20241007T170000
DTSTAMP:20260424T040617
CREATED:20240820T081301Z
LAST-MODIFIED:20240916T072106Z
UID:10000054-1728316800-1728320400@netzwerk.immo
SUMMARY:Seminar Heizrevolution 2024
DESCRIPTION:Fachseminar: neuester Stand der Heizungstechnik sowie Konsequenzen\, die sich daraus für die Hausverwaltungen ergeben
URL:https://netzwerk.immo/event/seminar-heizrevolution-2024-28/
CATEGORIES:Videotermin
ATTACH;FMTTYPE=image/png:https://netzwerk.immo/wp-content/uploads/2023/11/NetzwerImmo2.png
ORGANIZER;CN="Netzwerk.Immo":MAILTO:service@netzwerk.immo
END:VEVENT
BEGIN:VEVENT
DTSTART;TZID=Europe/Berlin:20240902T160000
DTEND;TZID=Europe/Berlin:20240902T170000
DTSTAMP:20260424T040617
CREATED:20240820T081019Z
LAST-MODIFIED:20240820T081022Z
UID:10000052-1725292800-1725296400@netzwerk.immo
SUMMARY:Seminar Heizrevolution 2024
DESCRIPTION:Fachseminar: neuester Stand der Heizungstechnik sowie Konsequenzen\, die sich daraus für die Hausverwaltungen ergeben
URL:https://netzwerk.immo/event/seminar-heizrevolution-2024-26/
CATEGORIES:Videotermin
ATTACH;FMTTYPE=image/png:https://netzwerk.immo/wp-content/uploads/2023/11/NetzwerImmo2.png
ORGANIZER;CN="Netzwerk.Immo":MAILTO:service@netzwerk.immo
END:VEVENT
BEGIN:VEVENT
DTSTART;TZID=Europe/Berlin:20240826T140000
DTEND;TZID=Europe/Berlin:20240826T150000
DTSTAMP:20260424T040617
CREATED:20240807T112801Z
LAST-MODIFIED:20240807T113105Z
UID:10000051-1724680800-1724684400@netzwerk.immo
SUMMARY:Seminar Heizrevolution 2024
DESCRIPTION:Fachseminar: neuester Stand der Heizungstechnik sowie Konsequenzen\, die sich daraus für die Hausverwaltungen ergeben
URL:https://netzwerk.immo/event/seminar-heizrevolution-2024-25/
CATEGORIES:Videotermin
ATTACH;FMTTYPE=image/png:https://netzwerk.immo/wp-content/uploads/2023/11/NetzwerImmo2.png
ORGANIZER;CN="Netzwerk.Immo":MAILTO:service@netzwerk.immo
END:VEVENT
BEGIN:VEVENT
DTSTART;TZID=Europe/Berlin:20240819T160000
DTEND;TZID=Europe/Berlin:20240819T170000
DTSTAMP:20260424T040617
CREATED:20240807T112702Z
LAST-MODIFIED:20240807T112704Z
UID:10000050-1724083200-1724086800@netzwerk.immo
SUMMARY:Seminar Heizrevolution 2024
DESCRIPTION:Fachseminar: neuester Stand der Heizungstechnik sowie Konsequenzen\, die sich daraus für die Hausverwaltungen ergeben
URL:https://netzwerk.immo/event/seminar-heizrevolution-2024-24/
CATEGORIES:Videotermin
ATTACH;FMTTYPE=image/png:https://netzwerk.immo/wp-content/uploads/2023/11/NetzwerImmo2.png
ORGANIZER;CN="Netzwerk.Immo":MAILTO:service@netzwerk.immo
END:VEVENT
BEGIN:VEVENT
DTSTART;TZID=Europe/Berlin:20240807T160000
DTEND;TZID=Europe/Berlin:20240807T170000
DTSTAMP:20260424T040617
CREATED:20240708T135122Z
LAST-MODIFIED:20240708T135125Z
UID:10000049-1723046400-1723050000@netzwerk.immo
SUMMARY:Seminar Heizrevolution 2024
DESCRIPTION:Fachseminar: neuester Stand der Heizungstechnik sowie Konsequenzen\, die sich daraus für die Hausverwaltungen ergeben
URL:https://netzwerk.immo/event/seminar-heizrevolution-2024-23/
CATEGORIES:Videotermin
ATTACH;FMTTYPE=image/png:https://netzwerk.immo/wp-content/uploads/2023/11/NetzwerImmo2.png
ORGANIZER;CN="Netzwerk.Immo":MAILTO:service@netzwerk.immo
END:VEVENT
BEGIN:VEVENT
DTSTART;TZID=Europe/Berlin:20240729T160000
DTEND;TZID=Europe/Berlin:20240729T170000
DTSTAMP:20260424T040617
CREATED:20240630T170325Z
LAST-MODIFIED:20240630T170326Z
UID:10000048-1722268800-1722272400@netzwerk.immo
SUMMARY:Seminar Heizrevolution 2024
DESCRIPTION:Fachseminar: neuester Stand der Heizungstechnik sowie Konsequenzen\, die sich daraus für die Hausverwaltungen ergeben
URL:https://netzwerk.immo/event/seminar-heizrevolution-2024-22/
CATEGORIES:Videotermin
ATTACH;FMTTYPE=image/png:https://netzwerk.immo/wp-content/uploads/2023/11/NetzwerImmo2.png
ORGANIZER;CN="Netzwerk.Immo":MAILTO:service@netzwerk.immo
END:VEVENT
BEGIN:VEVENT
DTSTART;TZID=Europe/Berlin:20240723T140000
DTEND;TZID=Europe/Berlin:20240723T150000
DTSTAMP:20260424T040617
CREATED:20240630T170030Z
LAST-MODIFIED:20240630T170032Z
UID:10000046-1721743200-1721746800@netzwerk.immo
SUMMARY:Seminar Heizrevolution 2024
DESCRIPTION:Fachseminar: neuester Stand der Heizungstechnik sowie Konsequenzen\, die sich daraus für die Hausverwaltungen ergeben
URL:https://netzwerk.immo/event/seminar-heizrevolution-2024-21/
CATEGORIES:Videotermin
ATTACH;FMTTYPE=image/png:https://netzwerk.immo/wp-content/uploads/2023/11/NetzwerImmo2.png
ORGANIZER;CN="Netzwerk.Immo":MAILTO:service@netzwerk.immo
END:VEVENT
BEGIN:VEVENT
DTSTART;TZID=Europe/Berlin:20240708T163000
DTEND;TZID=Europe/Berlin:20240708T173000
DTSTAMP:20260424T040617
CREATED:20240630T165635Z
LAST-MODIFIED:20240630T165638Z
UID:10000044-1720456200-1720459800@netzwerk.immo
SUMMARY:Seminar Heizrevolution 2024
DESCRIPTION:Fachseminar: neuester Stand der Heizungstechnik sowie Konsequenzen\, die sich daraus für die Hausverwaltungen ergeben
URL:https://netzwerk.immo/event/seminar-heizrevolution-2024-20/
CATEGORIES:Videotermin
ATTACH;FMTTYPE=image/png:https://netzwerk.immo/wp-content/uploads/2023/11/NetzwerImmo2.png
ORGANIZER;CN="Netzwerk.Immo":MAILTO:service@netzwerk.immo
END:VEVENT
BEGIN:VEVENT
DTSTART;TZID=Europe/Berlin:20240701T160000
DTEND;TZID=Europe/Berlin:20240701T170000
DTSTAMP:20260424T040617
CREATED:20240612T083848Z
LAST-MODIFIED:20240612T083850Z
UID:10000043-1719849600-1719853200@netzwerk.immo
SUMMARY:Seminar Heizrevolution 2024
DESCRIPTION:Fachseminar: neuester Stand der Heizungstechnik sowie Konsequenzen\, die sich daraus für die Hausverwaltungen ergeben
URL:https://netzwerk.immo/event/seminar-heizrevolution-2024-19/
CATEGORIES:Videotermin
ATTACH;FMTTYPE=image/png:https://netzwerk.immo/wp-content/uploads/2023/11/NetzwerImmo2.png
ORGANIZER;CN="Netzwerk.Immo":MAILTO:service@netzwerk.immo
END:VEVENT
BEGIN:VEVENT
DTSTART;TZID=Europe/Berlin:20240624T160000
DTEND;TZID=Europe/Berlin:20240624T170000
DTSTAMP:20260424T040617
CREATED:20240612T082940Z
LAST-MODIFIED:20240612T082942Z
UID:10000040-1719244800-1719248400@netzwerk.immo
SUMMARY:Seminar Heizrevolution 2024
DESCRIPTION:Fachseminar: neuester Stand der Heizungstechnik sowie Konsequenzen\, die sich daraus für die Hausverwaltungen ergeben
URL:https://netzwerk.immo/event/seminar-heizrevolution-2024-18/
CATEGORIES:Videotermin
ATTACH;FMTTYPE=image/png:https://netzwerk.immo/wp-content/uploads/2023/11/NetzwerImmo2.png
ORGANIZER;CN="Netzwerk.Immo":MAILTO:service@netzwerk.immo
END:VEVENT
BEGIN:VEVENT
DTSTART;TZID=Europe/Berlin:20240617T140000
DTEND;TZID=Europe/Berlin:20240617T150000
DTSTAMP:20260424T040617
CREATED:20240429T094207Z
LAST-MODIFIED:20240515T132327Z
UID:10000038-1718632800-1718636400@netzwerk.immo
SUMMARY:Seminar Heizrevolution 2024
DESCRIPTION:Fachseminar: neuester Stand der Heizungstechnik sowie Konsequenzen\, die sich daraus für die Hausverwaltungen ergeben
URL:https://netzwerk.immo/event/seminar-heizrevolution-2024-16/
CATEGORIES:Videotermin
ATTACH;FMTTYPE=image/png:https://netzwerk.immo/wp-content/uploads/2023/11/NetzwerImmo2.png
ORGANIZER;CN="Netzwerk.Immo":MAILTO:service@netzwerk.immo
END:VEVENT
BEGIN:VEVENT
DTSTART;TZID=Europe/Berlin:20240611T160000
DTEND;TZID=Europe/Berlin:20240611T170000
DTSTAMP:20260424T040617
CREATED:20240429T094331Z
LAST-MODIFIED:20240515T123831Z
UID:10000039-1718121600-1718125200@netzwerk.immo
SUMMARY:Seminar Heizrevolution 2024
DESCRIPTION:Fachseminar: neuester Stand der Heizungstechnik sowie Konsequenzen\, die sich daraus für die Hausverwaltungen ergeben
URL:https://netzwerk.immo/event/seminar-heizrevolution-2024-17/
CATEGORIES:Videotermin
ATTACH;FMTTYPE=image/png:https://netzwerk.immo/wp-content/uploads/2023/11/NetzwerImmo2.png
ORGANIZER;CN="Netzwerk.Immo":MAILTO:service@netzwerk.immo
END:VEVENT
BEGIN:VEVENT
DTSTART;TZID=Europe/Berlin:20240522T173000
DTEND;TZID=Europe/Berlin:20240522T183000
DTSTAMP:20260424T040617
CREATED:20240421T083553Z
LAST-MODIFIED:20240521T065350Z
UID:10000036-1716399000-1716402600@netzwerk.immo
SUMMARY:Seminar Heizrevolution 2024
DESCRIPTION:Fachseminar: neuester Stand der Heizungstechnik sowie Konsequenzen\, die sich daraus für die Hausverwaltungen ergeben
URL:https://netzwerk.immo/event/seminar-heizrevolution-2024-14/
CATEGORIES:Videotermin
ATTACH;FMTTYPE=image/png:https://netzwerk.immo/wp-content/uploads/2023/11/NetzwerImmo2.png
ORGANIZER;CN="Netzwerk.Immo":MAILTO:service@netzwerk.immo
END:VEVENT
BEGIN:VEVENT
DTSTART;TZID=Europe/Berlin:20240429T140000
DTEND;TZID=Europe/Berlin:20240429T150000
DTSTAMP:20260424T040617
CREATED:20240411T072006Z
LAST-MODIFIED:20240411T072243Z
UID:10000035-1714399200-1714402800@netzwerk.immo
SUMMARY:Seminar Heizrevolution 2024
DESCRIPTION:Fachseminar: neuester Stand der Heizungstechnik sowie Konsequenzen\, die sich daraus für die Hausverwaltungen ergeben
URL:https://netzwerk.immo/event/seminar-heizrevolution-2024-13/
CATEGORIES:Videotermin
ATTACH;FMTTYPE=image/png:https://netzwerk.immo/wp-content/uploads/2023/11/NetzwerImmo2.png
ORGANIZER;CN="Netzwerk.Immo":MAILTO:service@netzwerk.immo
END:VEVENT
BEGIN:VEVENT
DTSTART;TZID=Europe/Berlin:20240422T170000
DTEND;TZID=Europe/Berlin:20240422T180000
DTSTAMP:20260424T040617
CREATED:20240327T100436Z
LAST-MODIFIED:20240327T100438Z
UID:10000034-1713805200-1713808800@netzwerk.immo
SUMMARY:Seminar Heizrevolution 2024
DESCRIPTION:Fachseminar: neuester Stand der Heizungstechnik sowie Konsequenzen\, die sich daraus für die Hausverwaltungen ergeben
URL:https://netzwerk.immo/event/seminar-heizrevolution-2024-12/
CATEGORIES:Videotermin
ATTACH;FMTTYPE=image/png:https://netzwerk.immo/wp-content/uploads/2023/11/NetzwerImmo2.png
ORGANIZER;CN="Netzwerk.Immo":MAILTO:service@netzwerk.immo
END:VEVENT
BEGIN:VEVENT
DTSTART;TZID=Europe/Berlin:20240411T163000
DTEND;TZID=Europe/Berlin:20240411T173000
DTSTAMP:20260424T040617
CREATED:20240320T083830Z
LAST-MODIFIED:20240327T095925Z
UID:10000033-1712853000-1712856600@netzwerk.immo
SUMMARY:Seminar Heizrevolution 2024
DESCRIPTION:Fachseminar: neuester Stand der Heizungstechnik sowie Konsequenzen\, die sich daraus für die Hausverwaltungen ergeben
URL:https://netzwerk.immo/event/seminar-heizrevolution-2024-10/
CATEGORIES:Videotermin
ATTACH;FMTTYPE=image/png:https://netzwerk.immo/wp-content/uploads/2023/11/NetzwerImmo2.png
ORGANIZER;CN="Netzwerk.Immo":MAILTO:service@netzwerk.immo
END:VEVENT
BEGIN:VEVENT
DTSTART;TZID=Europe/Berlin:20240404T143000
DTEND;TZID=Europe/Berlin:20240404T153000
DTSTAMP:20260424T040617
CREATED:20240319T151805Z
LAST-MODIFIED:20240320T083329Z
UID:10000032-1712241000-1712244600@netzwerk.immo
SUMMARY:Seminar Heizrevolution 2024
DESCRIPTION:Fachseminar: neuester Stand der Heizungstechnik sowie Konsequenzen\, die sich daraus für die Hausverwaltungen ergeben
URL:https://netzwerk.immo/event/seminar-heizrevolution-2024-11/
CATEGORIES:Videotermin
ATTACH;FMTTYPE=image/png:https://netzwerk.immo/wp-content/uploads/2023/11/NetzwerImmo2.png
ORGANIZER;CN="Netzwerk.Immo":MAILTO:service@netzwerk.immo
END:VEVENT
BEGIN:VEVENT
DTSTART;TZID=Europe/Berlin:20240327T100000
DTEND;TZID=Europe/Berlin:20240327T110000
DTSTAMP:20260424T040617
CREATED:20240309T070801Z
LAST-MODIFIED:20240319T134603Z
UID:10000026-1711533600-1711537200@netzwerk.immo
SUMMARY:Seminar Heizrevolution 2024
DESCRIPTION:Fachseminar: neuester Stand der Heizungstechnik sowie Konsequenzen\, die sich daraus für die Hausverwaltungen ergeben
URL:https://netzwerk.immo/event/seminar-heizrevolution-2024-9/
CATEGORIES:Videotermin
ATTACH;FMTTYPE=image/png:https://netzwerk.immo/wp-content/uploads/2023/11/NetzwerImmo2.png
ORGANIZER;CN="Netzwerk.Immo":MAILTO:service@netzwerk.immo
END:VEVENT
BEGIN:VEVENT
DTSTART;TZID=Europe/Berlin:20240319T140000
DTEND;TZID=Europe/Berlin:20240319T150000
DTSTAMP:20260424T040617
CREATED:20240309T070404Z
LAST-MODIFIED:20240309T070406Z
UID:10000028-1710856800-1710860400@netzwerk.immo
SUMMARY:Seminar Heizrevolution 2024
DESCRIPTION:Fachseminar: neuester Stand der Heizungstechnik sowie Konsequenzen\, die sich daraus für die Hausverwaltungen ergeben
URL:https://netzwerk.immo/event/seminar-heizrevolution-2024-8/
CATEGORIES:Videotermin
ATTACH;FMTTYPE=image/png:https://netzwerk.immo/wp-content/uploads/2023/11/NetzwerImmo2.png
ORGANIZER;CN="Netzwerk.Immo":MAILTO:service@netzwerk.immo
END:VEVENT
BEGIN:VEVENT
DTSTART;TZID=Europe/Berlin:20240315T160000
DTEND;TZID=Europe/Berlin:20240315T170000
DTSTAMP:20260424T040617
CREATED:20240309T065016Z
LAST-MODIFIED:20240309T065018Z
UID:10000027-1710518400-1710522000@netzwerk.immo
SUMMARY:Seminar Heizrevolution 2024
DESCRIPTION:Fachseminar: neuester Stand der Heizungstechnik sowie Konsequenzen\, die sich daraus für die Hausverwaltungen ergeben
URL:https://netzwerk.immo/event/seminar-heizrevolution-2024-7/
CATEGORIES:Videotermin
ATTACH;FMTTYPE=image/png:https://netzwerk.immo/wp-content/uploads/2023/11/NetzwerImmo2.png
ORGANIZER;CN="Netzwerk.Immo":MAILTO:service@netzwerk.immo
END:VEVENT
BEGIN:VEVENT
DTSTART;TZID=Europe/Berlin:20240109T100000
DTEND;TZID=Europe/Berlin:20240109T110000
DTSTAMP:20260424T040617
CREATED:20231214T123800Z
LAST-MODIFIED:20231214T123803Z
UID:10000022-1704794400-1704798000@netzwerk.immo
SUMMARY:Seminar Heizrevolution 2024
DESCRIPTION:Fachseminar: neuester Stand der Heizungstechnik sowie Konsequenzen\, die sich daraus für die Hausverwaltungen ergeben
URL:https://netzwerk.immo/event/seminar-heizrevolution-2024-5/
CATEGORIES:Videotermin
ATTACH;FMTTYPE=image/png:https://netzwerk.immo/wp-content/uploads/2023/11/NetzwerImmo2.png
ORGANIZER;CN="Netzwerk.Immo":MAILTO:service@netzwerk.immo
END:VEVENT
BEGIN:VEVENT
DTSTART;TZID=Europe/Berlin:20231219T143000
DTEND;TZID=Europe/Berlin:20231219T153000
DTSTAMP:20260424T040617
CREATED:20231102T123158Z
LAST-MODIFIED:20231120T130636Z
UID:10000014-1702996200-1702999800@netzwerk.immo
SUMMARY:Seminar Heizrevolution 2024
DESCRIPTION:Fachseminar: neuester Stand der Heizungstechnik sowie Konsequenzen\, die sich daraus für die Hausverwaltungen ergeben
URL:https://netzwerk.immo/event/seminar-heizrevolution-2024-2/
CATEGORIES:Videotermin
ATTACH;FMTTYPE=image/png:https://netzwerk.immo/wp-content/uploads/2023/11/NetzwerImmo2.png
ORGANIZER;CN="Netzwerk.Immo":MAILTO:service@netzwerk.immo
END:VEVENT
BEGIN:VEVENT
DTSTART;TZID=Europe/Berlin:20231213T143000
DTEND;TZID=Europe/Berlin:20231213T153000
DTSTAMP:20260424T040617
CREATED:20231102T124346Z
LAST-MODIFIED:20231120T130408Z
UID:10000005-1702477800-1702481400@netzwerk.immo
SUMMARY:Fachgespräch Heiztechnik HHS-System
DESCRIPTION:Informationsveranstaltung für Heizungsfachbetriebe mit dem Entwickler des HHS-Systems Peter Brecklinghaus
URL:https://netzwerk.immo/event/fachgespraech-heiztechnik-hhs-system-3/
CATEGORIES:Videotermin
ATTACH;FMTTYPE=image/png:https://netzwerk.immo/wp-content/uploads/2023/10/HHSHybridHeatSolution.png
ORGANIZER;CN="Netzwerk.Immo":MAILTO:service@netzwerk.immo
END:VEVENT
BEGIN:VEVENT
DTSTART;TZID=Europe/Berlin:20231212T143000
DTEND;TZID=Europe/Berlin:20231212T153000
DTSTAMP:20260424T040617
CREATED:20231121T130203Z
LAST-MODIFIED:20231122T103015Z
UID:10000020-1702391400-1702395000@netzwerk.immo
SUMMARY:Seminar Heizrevolution 2024
DESCRIPTION:Fachseminar: neuester Stand der Heizungstechnik sowie Konsequenzen\, die sich daraus für die Hausverwaltungen ergeben
URL:https://netzwerk.immo/event/seminar-heizrevolution-2024/
CATEGORIES:Videotermin
ATTACH;FMTTYPE=image/png:https://netzwerk.immo/wp-content/uploads/2023/11/NetzwerImmo2.png
ORGANIZER;CN="Netzwerk.Immo":MAILTO:service@netzwerk.immo
END:VEVENT
BEGIN:VEVENT
DTSTART;TZID=Europe/Berlin:20231212T100000
DTEND;TZID=Europe/Berlin:20231212T110000
DTSTAMP:20260424T040617
CREATED:20231102T124444Z
LAST-MODIFIED:20231120T130154Z
UID:10000007-1702375200-1702378800@netzwerk.immo
SUMMARY:Fachgespräch Heiztechnik HHS-System
DESCRIPTION:Informationsveranstaltung für Heizungsfachbetriebe mit dem Entwickler des HHS-Systems Peter Brecklinghaus. \n\n\n\nOnline \n\n\n\n\n\n\n\n\n\n\n\n\n\n 
URL:https://netzwerk.immo/event/fachgespraech-heiztechnik-hhs-system-5/
CATEGORIES:Videotermin
ATTACH;FMTTYPE=image/png:https://netzwerk.immo/wp-content/uploads/2023/11/NetzwerImmo.png
ORGANIZER;CN="Netzwerk.Immo":MAILTO:service@netzwerk.immo
END:VEVENT
BEGIN:VEVENT
DTSTART;TZID=Europe/Berlin:20231205T143000
DTEND;TZID=Europe/Berlin:20231205T153000
DTSTAMP:20260424T040617
CREATED:20231121T190444Z
LAST-MODIFIED:20231122T103054Z
UID:10000019-1701786600-1701790200@netzwerk.immo
SUMMARY:Seminar Heizrevolution 2024
DESCRIPTION:Fachseminar: neuester Stand der Heizungstechnik sowie Konsequenzen\, die sich daraus für die Hausverwaltungen ergeben
URL:https://netzwerk.immo/event/seminar-heizrevolution-2024-6/
CATEGORIES:Videotermin
ATTACH;FMTTYPE=image/png:https://netzwerk.immo/wp-content/uploads/2023/11/NetzwerImmo2.png
ORGANIZER;CN="Netzwerk.Immo":MAILTO:service@netzwerk.immo
END:VEVENT
END:VCALENDAR