BEGIN:VCALENDAR
VERSION:2.0
PRODID:-//Netzwerk Immo - ECPv6.9.0//NONSGML v1.0//EN
CALSCALE:GREGORIAN
METHOD:PUBLISH
X-ORIGINAL-URL:https://netzwerk.immo
X-WR-CALDESC:Veranstaltungen für Netzwerk Immo
REFRESH-INTERVAL;VALUE=DURATION:PT1H
X-Robots-Tag:noindex
X-PUBLISHED-TTL:PT1H
BEGIN:VTIMEZONE
TZID:Europe/Berlin
BEGIN:DAYLIGHT
TZOFFSETFROM:+0100
TZOFFSETTO:+0200
TZNAME:CEST
DTSTART:20250330T010000
END:DAYLIGHT
BEGIN:STANDARD
TZOFFSETFROM:+0200
TZOFFSETTO:+0100
TZNAME:CET
DTSTART:20251026T010000
END:STANDARD
END:VTIMEZONE
BEGIN:VEVENT
DTSTART;TZID=Europe/Berlin:20250915T163000
DTEND;TZID=Europe/Berlin:20250915T173000
DTSTAMP:20260423T190501
CREATED:20250822T084106Z
LAST-MODIFIED:20250822T084115Z
UID:10000120-1757953800-1757957400@netzwerk.immo
SUMMARY:Webinar Energiewende bezahlbar meistern
DESCRIPTION:Fachseminar: neuester Stand der Heizungstechnik sowie Konsequenzen\, die sich daraus für die Hausverwaltungen ergeben
URL:https://netzwerk.immo/event/webinar-energiewende-bezahlbar-meistern-55/
CATEGORIES:Videotermin
ATTACH;FMTTYPE=image/png:https://netzwerk.immo/wp-content/uploads/2025/01/Energiewende.png
ORGANIZER;CN="Netzwerk.Immo":MAILTO:service@netzwerk.immo
END:VEVENT
BEGIN:VEVENT
DTSTART;TZID=Europe/Berlin:20250915T140000
DTEND;TZID=Europe/Berlin:20250915T150000
DTSTAMP:20260423T190501
CREATED:20250822T084007Z
LAST-MODIFIED:20250822T084017Z
UID:10000119-1757944800-1757948400@netzwerk.immo
SUMMARY:Webinar Energiewende bezahlbar meistern
DESCRIPTION:Fachseminar: neuester Stand der Heizungstechnik sowie Konsequenzen\, die sich daraus für die Hausverwaltungen ergeben
URL:https://netzwerk.immo/event/webinar-energiewende-bezahlbar-meistern-54/
CATEGORIES:Videotermin
ATTACH;FMTTYPE=image/png:https://netzwerk.immo/wp-content/uploads/2025/01/Energiewende.png
ORGANIZER;CN="Netzwerk.Immo":MAILTO:service@netzwerk.immo
END:VEVENT
BEGIN:VEVENT
DTSTART;TZID=Europe/Berlin:20250908T163000
DTEND;TZID=Europe/Berlin:20250908T173000
DTSTAMP:20260423T190501
CREATED:20250822T083844Z
LAST-MODIFIED:20250822T083847Z
UID:10000117-1757349000-1757352600@netzwerk.immo
SUMMARY:Webinar Energiewende bezahlbar meistern
DESCRIPTION:Fachseminar: neuester Stand der Heizungstechnik sowie Konsequenzen\, die sich daraus für die Hausverwaltungen ergeben
URL:https://netzwerk.immo/event/webinar-energiewende-bezahlbar-meistern-52/
CATEGORIES:Videotermin
ATTACH;FMTTYPE=image/png:https://netzwerk.immo/wp-content/uploads/2025/01/Energiewende.png
ORGANIZER;CN="Netzwerk.Immo":MAILTO:service@netzwerk.immo
END:VEVENT
BEGIN:VEVENT
DTSTART;TZID=Europe/Berlin:20250908T140000
DTEND;TZID=Europe/Berlin:20250908T150000
DTSTAMP:20260423T190501
CREATED:20250822T083917Z
LAST-MODIFIED:20250822T083920Z
UID:10000118-1757340000-1757343600@netzwerk.immo
SUMMARY:Webinar Energiewende bezahlbar meistern
DESCRIPTION:Fachseminar: neuester Stand der Heizungstechnik sowie Konsequenzen\, die sich daraus für die Hausverwaltungen ergeben
URL:https://netzwerk.immo/event/webinar-energiewende-bezahlbar-meistern-53/
CATEGORIES:Videotermin
ATTACH;FMTTYPE=image/png:https://netzwerk.immo/wp-content/uploads/2025/01/Energiewende.png
ORGANIZER;CN="Netzwerk.Immo":MAILTO:service@netzwerk.immo
END:VEVENT
BEGIN:VEVENT
DTSTART;TZID=Europe/Berlin:20250901T163000
DTEND;TZID=Europe/Berlin:20250901T173000
DTSTAMP:20260423T190501
CREATED:20250817T173800Z
LAST-MODIFIED:20250817T173802Z
UID:10000115-1756744200-1756747800@netzwerk.immo
SUMMARY:Webinar Energiewende bezahlbar meistern
DESCRIPTION:Fachseminar: neuester Stand der Heizungstechnik sowie Konsequenzen\, die sich daraus für die Hausverwaltungen ergeben
URL:https://netzwerk.immo/event/webinar-energiewende-bezahlbar-meistern-50/
CATEGORIES:Videotermin
ATTACH;FMTTYPE=image/png:https://netzwerk.immo/wp-content/uploads/2025/01/Energiewende.png
ORGANIZER;CN="Netzwerk.Immo":MAILTO:service@netzwerk.immo
END:VEVENT
BEGIN:VEVENT
DTSTART;TZID=Europe/Berlin:20250901T140000
DTEND;TZID=Europe/Berlin:20250901T150000
DTSTAMP:20260423T190501
CREATED:20250817T173843Z
LAST-MODIFIED:20250817T173845Z
UID:10000116-1756735200-1756738800@netzwerk.immo
SUMMARY:Webinar Energiewende bezahlbar meistern
DESCRIPTION:Fachseminar: neuester Stand der Heizungstechnik sowie Konsequenzen\, die sich daraus für die Hausverwaltungen ergeben
URL:https://netzwerk.immo/event/webinar-energiewende-bezahlbar-meistern-51/
CATEGORIES:Videotermin
ATTACH;FMTTYPE=image/png:https://netzwerk.immo/wp-content/uploads/2025/01/Energiewende.png
ORGANIZER;CN="Netzwerk.Immo":MAILTO:service@netzwerk.immo
END:VEVENT
BEGIN:VEVENT
DTSTART;TZID=Europe/Berlin:20250825T163000
DTEND;TZID=Europe/Berlin:20250825T173000
DTSTAMP:20260423T190501
CREATED:20250817T173615Z
LAST-MODIFIED:20250817T173617Z
UID:10000113-1756139400-1756143000@netzwerk.immo
SUMMARY:Webinar Energiewende bezahlbar meistern
DESCRIPTION:Fachseminar: neuester Stand der Heizungstechnik sowie Konsequenzen\, die sich daraus für die Hausverwaltungen ergeben
URL:https://netzwerk.immo/event/webinar-energiewende-bezahlbar-meistern-48/
CATEGORIES:Videotermin
ATTACH;FMTTYPE=image/png:https://netzwerk.immo/wp-content/uploads/2025/01/Energiewende.png
ORGANIZER;CN="Netzwerk.Immo":MAILTO:service@netzwerk.immo
END:VEVENT
BEGIN:VEVENT
DTSTART;TZID=Europe/Berlin:20250825T140000
DTEND;TZID=Europe/Berlin:20250825T150000
DTSTAMP:20260423T190501
CREATED:20250817T173704Z
LAST-MODIFIED:20250817T173706Z
UID:10000114-1756130400-1756134000@netzwerk.immo
SUMMARY:Webinar Energiewende bezahlbar meistern
DESCRIPTION:Fachseminar: neuester Stand der Heizungstechnik sowie Konsequenzen\, die sich daraus für die Hausverwaltungen ergeben
URL:https://netzwerk.immo/event/webinar-energiewende-bezahlbar-meistern-49/
CATEGORIES:Videotermin
ATTACH;FMTTYPE=image/png:https://netzwerk.immo/wp-content/uploads/2025/01/Energiewende.png
ORGANIZER;CN="Netzwerk.Immo":MAILTO:service@netzwerk.immo
END:VEVENT
BEGIN:VEVENT
DTSTART;TZID=Europe/Berlin:20250818T163000
DTEND;TZID=Europe/Berlin:20250818T173000
DTSTAMP:20260423T190501
CREATED:20250728T084609Z
LAST-MODIFIED:20250728T084611Z
UID:10000111-1755534600-1755538200@netzwerk.immo
SUMMARY:Webinar Energiewende bezahlbar meistern
DESCRIPTION:Fachseminar: neuester Stand der Heizungstechnik sowie Konsequenzen\, die sich daraus für die Hausverwaltungen ergeben
URL:https://netzwerk.immo/event/webinar-energiewende-bezahlbar-meistern-46/
CATEGORIES:Videotermin
ATTACH;FMTTYPE=image/png:https://netzwerk.immo/wp-content/uploads/2025/01/Energiewende.png
ORGANIZER;CN="Netzwerk.Immo":MAILTO:service@netzwerk.immo
END:VEVENT
BEGIN:VEVENT
DTSTART;TZID=Europe/Berlin:20250818T140000
DTEND;TZID=Europe/Berlin:20250818T150000
DTSTAMP:20260423T190501
CREATED:20250728T084636Z
LAST-MODIFIED:20250728T084638Z
UID:10000112-1755525600-1755529200@netzwerk.immo
SUMMARY:Webinar Energiewende bezahlbar meistern
DESCRIPTION:Fachseminar: neuester Stand der Heizungstechnik sowie Konsequenzen\, die sich daraus für die Hausverwaltungen ergeben
URL:https://netzwerk.immo/event/webinar-energiewende-bezahlbar-meistern-47/
CATEGORIES:Videotermin
ATTACH;FMTTYPE=image/png:https://netzwerk.immo/wp-content/uploads/2025/01/Energiewende.png
ORGANIZER;CN="Netzwerk.Immo":MAILTO:service@netzwerk.immo
END:VEVENT
BEGIN:VEVENT
DTSTART;TZID=Europe/Berlin:20250811T163000
DTEND;TZID=Europe/Berlin:20250811T173000
DTSTAMP:20260423T190501
CREATED:20250728T084058Z
LAST-MODIFIED:20250728T084100Z
UID:10000109-1754929800-1754933400@netzwerk.immo
SUMMARY:Webinar Energiewende bezahlbar meistern
DESCRIPTION:Fachseminar: neuester Stand der Heizungstechnik sowie Konsequenzen\, die sich daraus für die Hausverwaltungen ergeben
URL:https://netzwerk.immo/event/webinar-energiewende-bezahlbar-meistern-44/
CATEGORIES:Videotermin
ATTACH;FMTTYPE=image/png:https://netzwerk.immo/wp-content/uploads/2025/01/Energiewende.png
ORGANIZER;CN="Netzwerk.Immo":MAILTO:service@netzwerk.immo
END:VEVENT
BEGIN:VEVENT
DTSTART;TZID=Europe/Berlin:20250811T140000
DTEND;TZID=Europe/Berlin:20250811T150000
DTSTAMP:20260423T190501
CREATED:20250728T084146Z
LAST-MODIFIED:20250728T084148Z
UID:10000110-1754920800-1754924400@netzwerk.immo
SUMMARY:Webinar Energiewende bezahlbar meistern
DESCRIPTION:Fachseminar: neuester Stand der Heizungstechnik sowie Konsequenzen\, die sich daraus für die Hausverwaltungen ergeben
URL:https://netzwerk.immo/event/webinar-energiewende-bezahlbar-meistern-45/
CATEGORIES:Videotermin
ATTACH;FMTTYPE=image/png:https://netzwerk.immo/wp-content/uploads/2025/01/Energiewende.png
ORGANIZER;CN="Netzwerk.Immo":MAILTO:service@netzwerk.immo
END:VEVENT
BEGIN:VEVENT
DTSTART;TZID=Europe/Berlin:20250728T163000
DTEND;TZID=Europe/Berlin:20250728T173000
DTSTAMP:20260423T190501
CREATED:20250707T061228Z
LAST-MODIFIED:20250707T061231Z
UID:10000106-1753720200-1753723800@netzwerk.immo
SUMMARY:Webinar Energiewende bezahlbar meistern
DESCRIPTION:Fachseminar: neuester Stand der Heizungstechnik sowie Konsequenzen\, die sich daraus für die Hausverwaltungen ergeben
URL:https://netzwerk.immo/event/webinar-energiewende-bezahlbar-meistern-42/
CATEGORIES:Videotermin
ATTACH;FMTTYPE=image/png:https://netzwerk.immo/wp-content/uploads/2025/01/Energiewende.png
ORGANIZER;CN="Netzwerk.Immo":MAILTO:service@netzwerk.immo
END:VEVENT
BEGIN:VEVENT
DTSTART;TZID=Europe/Berlin:20250728T140000
DTEND;TZID=Europe/Berlin:20250728T150000
DTSTAMP:20260423T190501
CREATED:20250707T061458Z
LAST-MODIFIED:20250707T061500Z
UID:10000108-1753711200-1753714800@netzwerk.immo
SUMMARY:Webinar Energiewende bezahlbar meistern
DESCRIPTION:Fachseminar: neuester Stand der Heizungstechnik sowie Konsequenzen\, die sich daraus für die Hausverwaltungen ergeben
URL:https://netzwerk.immo/event/webinar-energiewende-bezahlbar-meistern-43/
CATEGORIES:Videotermin
ATTACH;FMTTYPE=image/png:https://netzwerk.immo/wp-content/uploads/2025/01/Energiewende.png
ORGANIZER;CN="Netzwerk.Immo":MAILTO:service@netzwerk.immo
END:VEVENT
BEGIN:VEVENT
DTSTART;TZID=Europe/Berlin:20250721T163000
DTEND;TZID=Europe/Berlin:20250721T173000
DTSTAMP:20260423T190501
CREATED:20250630T135929Z
LAST-MODIFIED:20250630T135932Z
UID:10000104-1753115400-1753119000@netzwerk.immo
SUMMARY:Webinar Energiewende bezahlbar meistern
DESCRIPTION:Fachseminar: neuester Stand der Heizungstechnik sowie Konsequenzen\, die sich daraus für die Hausverwaltungen ergeben
URL:https://netzwerk.immo/event/webinar-energiewende-bezahlbar-meistern-40/
CATEGORIES:Videotermin
ATTACH;FMTTYPE=image/png:https://netzwerk.immo/wp-content/uploads/2025/01/Energiewende.png
ORGANIZER;CN="Netzwerk.Immo":MAILTO:service@netzwerk.immo
END:VEVENT
BEGIN:VEVENT
DTSTART;TZID=Europe/Berlin:20250721T140000
DTEND;TZID=Europe/Berlin:20250721T150000
DTSTAMP:20260423T190501
CREATED:20250630T140016Z
LAST-MODIFIED:20250630T140020Z
UID:10000105-1753106400-1753110000@netzwerk.immo
SUMMARY:Webinar Energiewende bezahlbar meistern
DESCRIPTION:Fachseminar: neuester Stand der Heizungstechnik sowie Konsequenzen\, die sich daraus für die Hausverwaltungen ergeben
URL:https://netzwerk.immo/event/webinar-energiewende-bezahlbar-meistern-41/
CATEGORIES:Videotermin
ATTACH;FMTTYPE=image/png:https://netzwerk.immo/wp-content/uploads/2025/01/Energiewende.png
ORGANIZER;CN="Netzwerk.Immo":MAILTO:service@netzwerk.immo
END:VEVENT
BEGIN:VEVENT
DTSTART;TZID=Europe/Berlin:20250707T153000
DTEND;TZID=Europe/Berlin:20250707T163000
DTSTAMP:20260423T190501
CREATED:20250616T091110Z
LAST-MODIFIED:20250630T135814Z
UID:10000103-1751902200-1751905800@netzwerk.immo
SUMMARY:Webinar Energiewende bezahlbar meistern
DESCRIPTION:Fachseminar: neuester Stand der Heizungstechnik sowie Konsequenzen\, die sich daraus für die Hausverwaltungen ergeben
URL:https://netzwerk.immo/event/webinar-energiewende-bezahlbar-meistern-39/
CATEGORIES:Videotermin
ATTACH;FMTTYPE=image/png:https://netzwerk.immo/wp-content/uploads/2025/01/Energiewende.png
ORGANIZER;CN="Netzwerk.Immo":MAILTO:service@netzwerk.immo
END:VEVENT
BEGIN:VEVENT
DTSTART;TZID=Europe/Berlin:20250707T140000
DTEND;TZID=Europe/Berlin:20250707T150000
DTSTAMP:20260423T190501
CREATED:20250616T090850Z
LAST-MODIFIED:20250616T090852Z
UID:10000100-1751896800-1751900400@netzwerk.immo
SUMMARY:Webinar Energiewende bezahlbar meistern
DESCRIPTION:Fachseminar: neuester Stand der Heizungstechnik sowie Konsequenzen\, die sich daraus für die Hausverwaltungen ergeben
URL:https://netzwerk.immo/event/webinar-energiewende-bezahlbar-meistern-36/
CATEGORIES:Videotermin
ATTACH;FMTTYPE=image/png:https://netzwerk.immo/wp-content/uploads/2025/01/Energiewende.png
ORGANIZER;CN="Netzwerk.Immo":MAILTO:service@netzwerk.immo
END:VEVENT
BEGIN:VEVENT
DTSTART;TZID=Europe/Berlin:20250630T163000
DTEND;TZID=Europe/Berlin:20250630T173000
DTSTAMP:20260423T190501
CREATED:20250616T091026Z
LAST-MODIFIED:20250616T091028Z
UID:10000102-1751301000-1751304600@netzwerk.immo
SUMMARY:Webinar Energiewende bezahlbar meistern
DESCRIPTION:Fachseminar: neuester Stand der Heizungstechnik sowie Konsequenzen\, die sich daraus für die Hausverwaltungen ergeben
URL:https://netzwerk.immo/event/webinar-energiewende-bezahlbar-meistern-38/
CATEGORIES:Videotermin
ATTACH;FMTTYPE=image/png:https://netzwerk.immo/wp-content/uploads/2025/01/Energiewende.png
ORGANIZER;CN="Netzwerk.Immo":MAILTO:service@netzwerk.immo
END:VEVENT
BEGIN:VEVENT
DTSTART;TZID=Europe/Berlin:20250630T140000
DTEND;TZID=Europe/Berlin:20250630T150000
DTSTAMP:20260423T190501
CREATED:20250616T090556Z
LAST-MODIFIED:20250616T090600Z
UID:10000099-1751292000-1751295600@netzwerk.immo
SUMMARY:Webinar Energiewende bezahlbar meistern
DESCRIPTION:Fachseminar: neuester Stand der Heizungstechnik sowie Konsequenzen\, die sich daraus für die Hausverwaltungen ergeben
URL:https://netzwerk.immo/event/webinar-energiewende-bezahlbar-meistern-35/
CATEGORIES:Videotermin
ATTACH;FMTTYPE=image/png:https://netzwerk.immo/wp-content/uploads/2025/01/Energiewende.png
ORGANIZER;CN="Netzwerk.Immo":MAILTO:service@netzwerk.immo
END:VEVENT
BEGIN:VEVENT
DTSTART;TZID=Europe/Berlin:20250623T163000
DTEND;TZID=Europe/Berlin:20250623T173000
DTSTAMP:20260423T190501
CREATED:20250616T090952Z
LAST-MODIFIED:20250616T090954Z
UID:10000101-1750696200-1750699800@netzwerk.immo
SUMMARY:Webinar Energiewende bezahlbar meistern
DESCRIPTION:Fachseminar: neuester Stand der Heizungstechnik sowie Konsequenzen\, die sich daraus für die Hausverwaltungen ergeben
URL:https://netzwerk.immo/event/webinar-energiewende-bezahlbar-meistern-37/
CATEGORIES:Videotermin
ATTACH;FMTTYPE=image/png:https://netzwerk.immo/wp-content/uploads/2025/01/Energiewende.png
ORGANIZER;CN="Netzwerk.Immo":MAILTO:service@netzwerk.immo
END:VEVENT
BEGIN:VEVENT
DTSTART;TZID=Europe/Berlin:20250623T140000
DTEND;TZID=Europe/Berlin:20250623T150000
DTSTAMP:20260423T190501
CREATED:20250616T090411Z
LAST-MODIFIED:20250616T090413Z
UID:10000098-1750687200-1750690800@netzwerk.immo
SUMMARY:Webinar Energiewende bezahlbar meistern
DESCRIPTION:Fachseminar: neuester Stand der Heizungstechnik sowie Konsequenzen\, die sich daraus für die Hausverwaltungen ergeben
URL:https://netzwerk.immo/event/webinar-energiewende-bezahlbar-meistern-34/
CATEGORIES:Videotermin
ATTACH;FMTTYPE=image/png:https://netzwerk.immo/wp-content/uploads/2025/01/Energiewende.png
ORGANIZER;CN="Netzwerk.Immo":MAILTO:service@netzwerk.immo
END:VEVENT
BEGIN:VEVENT
DTSTART;TZID=Europe/Berlin:20250609T140000
DTEND;TZID=Europe/Berlin:20250609T150000
DTSTAMP:20260423T190501
CREATED:20250531T093430Z
LAST-MODIFIED:20250531T093433Z
UID:10000097-1749477600-1749481200@netzwerk.immo
SUMMARY:Webinar Energiewende bezahlbar meistern
DESCRIPTION:Fachseminar: neuester Stand der Heizungstechnik sowie Konsequenzen\, die sich daraus für die Hausverwaltungen ergeben
URL:https://netzwerk.immo/event/webinar-energiewende-bezahlbar-meistern-33/
CATEGORIES:Videotermin
ATTACH;FMTTYPE=image/png:https://netzwerk.immo/wp-content/uploads/2025/01/Energiewende.png
ORGANIZER;CN="Netzwerk.Immo":MAILTO:service@netzwerk.immo
END:VEVENT
BEGIN:VEVENT
DTSTART;TZID=Europe/Berlin:20250526T163000
DTEND;TZID=Europe/Berlin:20250526T173000
DTSTAMP:20260423T190501
CREATED:20250310T122327Z
LAST-MODIFIED:20250409T091254Z
UID:10000089-1748277000-1748280600@netzwerk.immo
SUMMARY:Webinar Energiewende bezahlbar meistern
DESCRIPTION:Fachseminar: neuester Stand der Heizungstechnik sowie Konsequenzen\, die sich daraus für die Hausverwaltungen ergeben
URL:https://netzwerk.immo/event/webinar-energiewende-bezahlbar-meistern-25/
CATEGORIES:Videotermin
ATTACH;FMTTYPE=image/png:https://netzwerk.immo/wp-content/uploads/2025/01/Energiewende.png
ORGANIZER;CN="Netzwerk.Immo":MAILTO:service@netzwerk.immo
END:VEVENT
BEGIN:VEVENT
DTSTART;TZID=Europe/Berlin:20250519T140000
DTEND;TZID=Europe/Berlin:20250519T150000
DTSTAMP:20260423T190501
CREATED:20250409T092726Z
LAST-MODIFIED:20250409T092728Z
UID:10000096-1747663200-1747666800@netzwerk.immo
SUMMARY:Webinar Energiewende bezahlbar meistern
DESCRIPTION:Fachseminar: neuester Stand der Heizungstechnik sowie Konsequenzen\, die sich daraus für die Hausverwaltungen ergeben
URL:https://netzwerk.immo/event/webinar-energiewende-bezahlbar-meistern-32/
CATEGORIES:Videotermin
ATTACH;FMTTYPE=image/png:https://netzwerk.immo/wp-content/uploads/2025/01/Energiewende.png
ORGANIZER;CN="Netzwerk.Immo":MAILTO:service@netzwerk.immo
END:VEVENT
BEGIN:VEVENT
DTSTART;TZID=Europe/Berlin:20250512T163000
DTEND;TZID=Europe/Berlin:20250512T173000
DTSTAMP:20260423T190501
CREATED:20250409T092647Z
LAST-MODIFIED:20250409T092649Z
UID:10000095-1747067400-1747071000@netzwerk.immo
SUMMARY:Webinar Energiewende bezahlbar meistern
DESCRIPTION:Fachseminar: neuester Stand der Heizungstechnik sowie Konsequenzen\, die sich daraus für die Hausverwaltungen ergeben
URL:https://netzwerk.immo/event/webinar-energiewende-bezahlbar-meistern-31/
CATEGORIES:Videotermin
ATTACH;FMTTYPE=image/png:https://netzwerk.immo/wp-content/uploads/2025/01/Energiewende.png
ORGANIZER;CN="Netzwerk.Immo":MAILTO:service@netzwerk.immo
END:VEVENT
BEGIN:VEVENT
DTSTART;TZID=Europe/Berlin:20250505T163000
DTEND;TZID=Europe/Berlin:20250505T173000
DTSTAMP:20260423T190501
CREATED:20250409T092530Z
LAST-MODIFIED:20250409T092532Z
UID:10000093-1746462600-1746466200@netzwerk.immo
SUMMARY:Webinar Energiewende bezahlbar meistern
DESCRIPTION:Fachseminar: neuester Stand der Heizungstechnik sowie Konsequenzen\, die sich daraus für die Hausverwaltungen ergeben
URL:https://netzwerk.immo/event/webinar-energiewende-bezahlbar-meistern-29/
CATEGORIES:Videotermin
ATTACH;FMTTYPE=image/png:https://netzwerk.immo/wp-content/uploads/2025/01/Energiewende.png
ORGANIZER;CN="Netzwerk.Immo":MAILTO:service@netzwerk.immo
END:VEVENT
BEGIN:VEVENT
DTSTART;TZID=Europe/Berlin:20250505T140000
DTEND;TZID=Europe/Berlin:20250505T150000
DTSTAMP:20260423T190501
CREATED:20250409T092609Z
LAST-MODIFIED:20250409T092612Z
UID:10000094-1746453600-1746457200@netzwerk.immo
SUMMARY:Webinar Energiewende bezahlbar meistern
DESCRIPTION:Fachseminar: neuester Stand der Heizungstechnik sowie Konsequenzen\, die sich daraus für die Hausverwaltungen ergeben
URL:https://netzwerk.immo/event/webinar-energiewende-bezahlbar-meistern-30/
CATEGORIES:Videotermin
ATTACH;FMTTYPE=image/png:https://netzwerk.immo/wp-content/uploads/2025/01/Energiewende.png
ORGANIZER;CN="Netzwerk.Immo":MAILTO:service@netzwerk.immo
END:VEVENT
BEGIN:VEVENT
DTSTART;TZID=Europe/Berlin:20250428T163000
DTEND;TZID=Europe/Berlin:20250428T173000
DTSTAMP:20260423T190501
CREATED:20250409T091407Z
LAST-MODIFIED:20250409T092824Z
UID:10000091-1745857800-1745861400@netzwerk.immo
SUMMARY:Webinar Energiewende bezahlbar meistern
DESCRIPTION:Fachseminar: neuester Stand der Heizungstechnik sowie Konsequenzen\, die sich daraus für die Hausverwaltungen ergeben
URL:https://netzwerk.immo/event/webinar-energiewende-bezahlbar-meistern-27/
CATEGORIES:Videotermin
ATTACH;FMTTYPE=image/png:https://netzwerk.immo/wp-content/uploads/2025/01/Energiewende.png
ORGANIZER;CN="Netzwerk.Immo":MAILTO:service@netzwerk.immo
END:VEVENT
BEGIN:VEVENT
DTSTART;TZID=Europe/Berlin:20250428T140000
DTEND;TZID=Europe/Berlin:20250428T150000
DTSTAMP:20260423T190501
CREATED:20250409T091500Z
LAST-MODIFIED:20250409T092939Z
UID:10000092-1745848800-1745852400@netzwerk.immo
SUMMARY:Webinar Energiewende bezahlbar meistern
DESCRIPTION:Fachseminar: neuester Stand der Heizungstechnik sowie Konsequenzen\, die sich daraus für die Hausverwaltungen ergeben
URL:https://netzwerk.immo/event/webinar-energiewende-bezahlbar-meistern-28/
CATEGORIES:Videotermin
ATTACH;FMTTYPE=image/png:https://netzwerk.immo/wp-content/uploads/2025/01/Energiewende.png
ORGANIZER;CN="Netzwerk.Immo":MAILTO:service@netzwerk.immo
END:VEVENT
END:VCALENDAR