BEGIN:VCALENDAR
VERSION:2.0
PRODID:-//Netzwerk Immo - ECPv6.9.0//NONSGML v1.0//EN
CALSCALE:GREGORIAN
METHOD:PUBLISH
X-WR-CALNAME:Netzwerk Immo
X-ORIGINAL-URL:https://netzwerk.immo
X-WR-CALDESC:Veranstaltungen für Netzwerk Immo
REFRESH-INTERVAL;VALUE=DURATION:PT1H
X-Robots-Tag:noindex
X-PUBLISHED-TTL:PT1H
BEGIN:VTIMEZONE
TZID:Europe/Berlin
BEGIN:DAYLIGHT
TZOFFSETFROM:+0100
TZOFFSETTO:+0200
TZNAME:CEST
DTSTART:20240331T010000
END:DAYLIGHT
BEGIN:STANDARD
TZOFFSETFROM:+0200
TZOFFSETTO:+0100
TZNAME:CET
DTSTART:20241027T010000
END:STANDARD
BEGIN:DAYLIGHT
TZOFFSETFROM:+0100
TZOFFSETTO:+0200
TZNAME:CEST
DTSTART:20250330T010000
END:DAYLIGHT
BEGIN:STANDARD
TZOFFSETFROM:+0200
TZOFFSETTO:+0100
TZNAME:CET
DTSTART:20251026T010000
END:STANDARD
END:VTIMEZONE
BEGIN:VEVENT
DTSTART;TZID=Europe/Berlin:20250414T140000
DTEND;TZID=Europe/Berlin:20250414T150000
DTSTAMP:20260423T233654
CREATED:20250310T122353Z
LAST-MODIFIED:20250310T122355Z
UID:10000090-1744639200-1744642800@netzwerk.immo
SUMMARY:Webinar Energiewende bezahlbar meistern
DESCRIPTION:Fachseminar: neuester Stand der Heizungstechnik sowie Konsequenzen\, die sich daraus für die Hausverwaltungen ergeben
URL:https://netzwerk.immo/event/webinar-energiewende-bezahlbar-meistern-26/
CATEGORIES:Videotermin
ATTACH;FMTTYPE=image/png:https://netzwerk.immo/wp-content/uploads/2025/01/Energiewende.png
ORGANIZER;CN="Netzwerk.Immo":MAILTO:service@netzwerk.immo
END:VEVENT
BEGIN:VEVENT
DTSTART;TZID=Europe/Berlin:20250407T163000
DTEND;TZID=Europe/Berlin:20250407T173000
DTSTAMP:20260423T233654
CREATED:20250310T122226Z
LAST-MODIFIED:20250310T122228Z
UID:10000087-1744043400-1744047000@netzwerk.immo
SUMMARY:Webinar Energiewende bezahlbar meistern
DESCRIPTION:Fachseminar: neuester Stand der Heizungstechnik sowie Konsequenzen\, die sich daraus für die Hausverwaltungen ergeben
URL:https://netzwerk.immo/event/webinar-energiewende-bezahlbar-meistern-23/
CATEGORIES:Videotermin
ATTACH;FMTTYPE=image/png:https://netzwerk.immo/wp-content/uploads/2025/01/Energiewende.png
ORGANIZER;CN="Netzwerk.Immo":MAILTO:service@netzwerk.immo
END:VEVENT
BEGIN:VEVENT
DTSTART;TZID=Europe/Berlin:20250407T140000
DTEND;TZID=Europe/Berlin:20250407T150000
DTSTAMP:20260423T233654
CREATED:20250310T122254Z
LAST-MODIFIED:20250310T122256Z
UID:10000088-1744034400-1744038000@netzwerk.immo
SUMMARY:Webinar Energiewende bezahlbar meistern
DESCRIPTION:Fachseminar: neuester Stand der Heizungstechnik sowie Konsequenzen\, die sich daraus für die Hausverwaltungen ergeben
URL:https://netzwerk.immo/event/webinar-energiewende-bezahlbar-meistern-24/
CATEGORIES:Videotermin
ATTACH;FMTTYPE=image/png:https://netzwerk.immo/wp-content/uploads/2025/01/Energiewende.png
ORGANIZER;CN="Netzwerk.Immo":MAILTO:service@netzwerk.immo
END:VEVENT
BEGIN:VEVENT
DTSTART;TZID=Europe/Berlin:20250331T163000
DTEND;TZID=Europe/Berlin:20250331T173000
DTSTAMP:20260423T233654
CREATED:20250310T122113Z
LAST-MODIFIED:20250310T122115Z
UID:10000085-1743438600-1743442200@netzwerk.immo
SUMMARY:Webinar Energiewende bezahlbar meistern
DESCRIPTION:Fachseminar: neuester Stand der Heizungstechnik sowie Konsequenzen\, die sich daraus für die Hausverwaltungen ergeben
URL:https://netzwerk.immo/event/webinar-energiewende-bezahlbar-meistern-21/
CATEGORIES:Videotermin
ATTACH;FMTTYPE=image/png:https://netzwerk.immo/wp-content/uploads/2025/01/Energiewende.png
ORGANIZER;CN="Netzwerk.Immo":MAILTO:service@netzwerk.immo
END:VEVENT
BEGIN:VEVENT
DTSTART;TZID=Europe/Berlin:20250331T140000
DTEND;TZID=Europe/Berlin:20250331T150000
DTSTAMP:20260423T233654
CREATED:20250310T122145Z
LAST-MODIFIED:20250310T122149Z
UID:10000086-1743429600-1743433200@netzwerk.immo
SUMMARY:Webinar Energiewende bezahlbar meistern
DESCRIPTION:Fachseminar: neuester Stand der Heizungstechnik sowie Konsequenzen\, die sich daraus für die Hausverwaltungen ergeben
URL:https://netzwerk.immo/event/webinar-energiewende-bezahlbar-meistern-22/
CATEGORIES:Videotermin
ATTACH;FMTTYPE=image/png:https://netzwerk.immo/wp-content/uploads/2025/01/Energiewende.png
ORGANIZER;CN="Netzwerk.Immo":MAILTO:service@netzwerk.immo
END:VEVENT
BEGIN:VEVENT
DTSTART;TZID=Europe/Berlin:20250324T163000
DTEND;TZID=Europe/Berlin:20250324T173000
DTSTAMP:20260423T233654
CREATED:20250310T122012Z
LAST-MODIFIED:20250310T122014Z
UID:10000083-1742833800-1742837400@netzwerk.immo
SUMMARY:Webinar Energiewende bezahlbar meistern
DESCRIPTION:Fachseminar: neuester Stand der Heizungstechnik sowie Konsequenzen\, die sich daraus für die Hausverwaltungen ergeben
URL:https://netzwerk.immo/event/webinar-energiewende-bezahlbar-meistern-19/
CATEGORIES:Videotermin
ATTACH;FMTTYPE=image/png:https://netzwerk.immo/wp-content/uploads/2025/01/Energiewende.png
ORGANIZER;CN="Netzwerk.Immo":MAILTO:service@netzwerk.immo
END:VEVENT
BEGIN:VEVENT
DTSTART;TZID=Europe/Berlin:20250324T140000
DTEND;TZID=Europe/Berlin:20250324T150000
DTSTAMP:20260423T233654
CREATED:20250310T122040Z
LAST-MODIFIED:20250310T122042Z
UID:10000084-1742824800-1742828400@netzwerk.immo
SUMMARY:Webinar Energiewende bezahlbar meistern
DESCRIPTION:Fachseminar: neuester Stand der Heizungstechnik sowie Konsequenzen\, die sich daraus für die Hausverwaltungen ergeben
URL:https://netzwerk.immo/event/webinar-energiewende-bezahlbar-meistern-20/
CATEGORIES:Videotermin
ATTACH;FMTTYPE=image/png:https://netzwerk.immo/wp-content/uploads/2025/01/Energiewende.png
ORGANIZER;CN="Netzwerk.Immo":MAILTO:service@netzwerk.immo
END:VEVENT
BEGIN:VEVENT
DTSTART;TZID=Europe/Berlin:20250317T163000
DTEND;TZID=Europe/Berlin:20250317T173000
DTSTAMP:20260423T233654
CREATED:20250310T121906Z
LAST-MODIFIED:20250310T121909Z
UID:10000081-1742229000-1742232600@netzwerk.immo
SUMMARY:Webinar Energiewende bezahlbar meistern
DESCRIPTION:Fachseminar: neuester Stand der Heizungstechnik sowie Konsequenzen\, die sich daraus für die Hausverwaltungen ergeben
URL:https://netzwerk.immo/event/webinar-energiewende-bezahlbar-meistern-17/
CATEGORIES:Videotermin
ATTACH;FMTTYPE=image/png:https://netzwerk.immo/wp-content/uploads/2025/01/Energiewende.png
ORGANIZER;CN="Netzwerk.Immo":MAILTO:service@netzwerk.immo
END:VEVENT
BEGIN:VEVENT
DTSTART;TZID=Europe/Berlin:20250317T140000
DTEND;TZID=Europe/Berlin:20250317T150000
DTSTAMP:20260423T233654
CREATED:20250310T121942Z
LAST-MODIFIED:20250310T121945Z
UID:10000082-1742220000-1742223600@netzwerk.immo
SUMMARY:Webinar Energiewende bezahlbar meistern
DESCRIPTION:Fachseminar: neuester Stand der Heizungstechnik sowie Konsequenzen\, die sich daraus für die Hausverwaltungen ergeben
URL:https://netzwerk.immo/event/webinar-energiewende-bezahlbar-meistern-18/
CATEGORIES:Videotermin
ATTACH;FMTTYPE=image/png:https://netzwerk.immo/wp-content/uploads/2025/01/Energiewende.png
ORGANIZER;CN="Netzwerk.Immo":MAILTO:service@netzwerk.immo
END:VEVENT
BEGIN:VEVENT
DTSTART;TZID=Europe/Berlin:20250310T163000
DTEND;TZID=Europe/Berlin:20250310T173000
DTSTAMP:20260423T233654
CREATED:20250121T133024Z
LAST-MODIFIED:20250121T133027Z
UID:10000079-1741624200-1741627800@netzwerk.immo
SUMMARY:Webinar Energiewende bezahlbar meistern
DESCRIPTION:Fachseminar: neuester Stand der Heizungstechnik sowie Konsequenzen\, die sich daraus für die Hausverwaltungen ergeben
URL:https://netzwerk.immo/event/webinar-energiewende-bezahlbar-meistern-15/
CATEGORIES:Videotermin
ATTACH;FMTTYPE=image/png:https://netzwerk.immo/wp-content/uploads/2025/01/Energiewende.png
ORGANIZER;CN="Netzwerk.Immo":MAILTO:service@netzwerk.immo
END:VEVENT
BEGIN:VEVENT
DTSTART;TZID=Europe/Berlin:20250310T140000
DTEND;TZID=Europe/Berlin:20250310T150000
DTSTAMP:20260423T233654
CREATED:20250121T133059Z
LAST-MODIFIED:20250121T133101Z
UID:10000080-1741615200-1741618800@netzwerk.immo
SUMMARY:Webinar Energiewende bezahlbar meistern
DESCRIPTION:Fachseminar: neuester Stand der Heizungstechnik sowie Konsequenzen\, die sich daraus für die Hausverwaltungen ergeben
URL:https://netzwerk.immo/event/webinar-energiewende-bezahlbar-meistern-16/
CATEGORIES:Videotermin
ATTACH;FMTTYPE=image/png:https://netzwerk.immo/wp-content/uploads/2025/01/Energiewende.png
ORGANIZER;CN="Netzwerk.Immo":MAILTO:service@netzwerk.immo
END:VEVENT
BEGIN:VEVENT
DTSTART;TZID=Europe/Berlin:20250224T163000
DTEND;TZID=Europe/Berlin:20250224T173000
DTSTAMP:20260423T233654
CREATED:20250121T130923Z
LAST-MODIFIED:20250121T130926Z
UID:10000077-1740414600-1740418200@netzwerk.immo
SUMMARY:Webinar Energiewende bezahlbar meistern
DESCRIPTION:Fachseminar: neuester Stand der Heizungstechnik sowie Konsequenzen\, die sich daraus für die Hausverwaltungen ergeben
URL:https://netzwerk.immo/event/webinar-energiewende-bezahlbar-meistern-13/
CATEGORIES:Videotermin
ATTACH;FMTTYPE=image/png:https://netzwerk.immo/wp-content/uploads/2025/01/Energiewende.png
ORGANIZER;CN="Netzwerk.Immo":MAILTO:service@netzwerk.immo
END:VEVENT
BEGIN:VEVENT
DTSTART;TZID=Europe/Berlin:20250224T140000
DTEND;TZID=Europe/Berlin:20250224T150000
DTSTAMP:20260423T233654
CREATED:20250121T131016Z
LAST-MODIFIED:20250121T131018Z
UID:10000078-1740405600-1740409200@netzwerk.immo
SUMMARY:Webinar Energiewende bezahlbar meistern
DESCRIPTION:Fachseminar: neuester Stand der Heizungstechnik sowie Konsequenzen\, die sich daraus für die Hausverwaltungen ergeben
URL:https://netzwerk.immo/event/webinar-energiewende-bezahlbar-meistern-14/
CATEGORIES:Videotermin
ATTACH;FMTTYPE=image/png:https://netzwerk.immo/wp-content/uploads/2025/01/Energiewende.png
ORGANIZER;CN="Netzwerk.Immo":MAILTO:service@netzwerk.immo
END:VEVENT
BEGIN:VEVENT
DTSTART;TZID=Europe/Berlin:20250217T163000
DTEND;TZID=Europe/Berlin:20250217T173000
DTSTAMP:20260423T233654
CREATED:20250121T125239Z
LAST-MODIFIED:20250121T125241Z
UID:10000075-1739809800-1739813400@netzwerk.immo
SUMMARY:Webinar Energiewende bezahlbar meistern
DESCRIPTION:Fachseminar: neuester Stand der Heizungstechnik sowie Konsequenzen\, die sich daraus für die Hausverwaltungen ergeben
URL:https://netzwerk.immo/event/webinar-energiewende-bezahlbar-meistern-11/
CATEGORIES:Videotermin
ATTACH;FMTTYPE=image/png:https://netzwerk.immo/wp-content/uploads/2025/01/Energiewende.png
ORGANIZER;CN="Netzwerk.Immo":MAILTO:service@netzwerk.immo
END:VEVENT
BEGIN:VEVENT
DTSTART;TZID=Europe/Berlin:20250217T140000
DTEND;TZID=Europe/Berlin:20250217T150000
DTSTAMP:20260423T233654
CREATED:20250121T125309Z
LAST-MODIFIED:20250121T125310Z
UID:10000076-1739800800-1739804400@netzwerk.immo
SUMMARY:Webinar Energiewende bezahlbar meistern
DESCRIPTION:Fachseminar: neuester Stand der Heizungstechnik sowie Konsequenzen\, die sich daraus für die Hausverwaltungen ergeben
URL:https://netzwerk.immo/event/webinar-energiewende-bezahlbar-meistern-12/
CATEGORIES:Videotermin
ATTACH;FMTTYPE=image/png:https://netzwerk.immo/wp-content/uploads/2025/01/Energiewende.png
ORGANIZER;CN="Netzwerk.Immo":MAILTO:service@netzwerk.immo
END:VEVENT
BEGIN:VEVENT
DTSTART;TZID=Europe/Berlin:20250210T163000
DTEND;TZID=Europe/Berlin:20250210T173000
DTSTAMP:20260423T233654
CREATED:20250121T125052Z
LAST-MODIFIED:20250121T125055Z
UID:10000073-1739205000-1739208600@netzwerk.immo
SUMMARY:Webinar Energiewende bezahlbar meistern
DESCRIPTION:Fachseminar: neuester Stand der Heizungstechnik sowie Konsequenzen\, die sich daraus für die Hausverwaltungen ergeben
URL:https://netzwerk.immo/event/webinar-energiewende-bezahlbar-meistern-9/
CATEGORIES:Videotermin
ATTACH;FMTTYPE=image/png:https://netzwerk.immo/wp-content/uploads/2025/01/Energiewende.png
ORGANIZER;CN="Netzwerk.Immo":MAILTO:service@netzwerk.immo
END:VEVENT
BEGIN:VEVENT
DTSTART;TZID=Europe/Berlin:20250210T140000
DTEND;TZID=Europe/Berlin:20250210T150000
DTSTAMP:20260423T233654
CREATED:20250121T125155Z
LAST-MODIFIED:20250121T125157Z
UID:10000074-1739196000-1739199600@netzwerk.immo
SUMMARY:Webinar Energiewende bezahlbar meistern
DESCRIPTION:Fachseminar: neuester Stand der Heizungstechnik sowie Konsequenzen\, die sich daraus für die Hausverwaltungen ergeben
URL:https://netzwerk.immo/event/webinar-energiewende-bezahlbar-meistern-10/
CATEGORIES:Videotermin
ATTACH;FMTTYPE=image/png:https://netzwerk.immo/wp-content/uploads/2025/01/Energiewende.png
ORGANIZER;CN="Netzwerk.Immo":MAILTO:service@netzwerk.immo
END:VEVENT
BEGIN:VEVENT
DTSTART;TZID=Europe/Berlin:20250203T163000
DTEND;TZID=Europe/Berlin:20250203T173000
DTSTAMP:20260423T233654
CREATED:20250108T113453Z
LAST-MODIFIED:20250121T081213Z
UID:10000069-1738600200-1738603800@netzwerk.immo
SUMMARY:Webinar Energiewende bezahlbar meistern
DESCRIPTION:Fachseminar: neuester Stand der Heizungstechnik sowie Konsequenzen\, die sich daraus für die Hausverwaltungen ergeben
URL:https://netzwerk.immo/event/webinar-energiewende-bezahlbar-meistern-4/
CATEGORIES:Videotermin
ATTACH;FMTTYPE=image/png:https://netzwerk.immo/wp-content/uploads/2025/01/Energiewende.png
ORGANIZER;CN="Netzwerk.Immo":MAILTO:service@netzwerk.immo
END:VEVENT
BEGIN:VEVENT
DTSTART;TZID=Europe/Berlin:20250203T140000
DTEND;TZID=Europe/Berlin:20250203T150000
DTSTAMP:20260423T233654
CREATED:20250108T113813Z
LAST-MODIFIED:20250121T081331Z
UID:10000071-1738591200-1738594800@netzwerk.immo
SUMMARY:Webinar Energiewende bezahlbar meistern
DESCRIPTION:Fachseminar: neuester Stand der Heizungstechnik sowie Konsequenzen\, die sich daraus für die Hausverwaltungen ergeben
URL:https://netzwerk.immo/event/webinar-energiewende-bezahlbar-meistern-6/
CATEGORIES:Videotermin
ATTACH;FMTTYPE=image/png:https://netzwerk.immo/wp-content/uploads/2025/01/Energiewende.png
ORGANIZER;CN="Netzwerk.Immo":MAILTO:service@netzwerk.immo
END:VEVENT
BEGIN:VEVENT
DTSTART;TZID=Europe/Berlin:20250120T163000
DTEND;TZID=Europe/Berlin:20250120T173000
DTSTAMP:20260423T233654
CREATED:20250108T113937Z
LAST-MODIFIED:20250108T114130Z
UID:10000068-1737390600-1737394200@netzwerk.immo
SUMMARY:Webinar Energiewende bezahlbar meistern
DESCRIPTION:Fachseminar: neuester Stand der Heizungstechnik sowie Konsequenzen\, die sich daraus für die Hausverwaltungen ergeben
URL:https://netzwerk.immo/event/webinar-energiewende-bezahlbar-meistern-7/
CATEGORIES:Videotermin
ATTACH;FMTTYPE=image/png:https://netzwerk.immo/wp-content/uploads/2023/11/NetzwerImmo2.png
ORGANIZER;CN="Netzwerk.Immo":MAILTO:service@netzwerk.immo
END:VEVENT
BEGIN:VEVENT
DTSTART;TZID=Europe/Berlin:20250114T131500
DTEND;TZID=Europe/Berlin:20250114T141500
DTSTAMP:20260423T233654
CREATED:20250108T114544Z
LAST-MODIFIED:20250108T124010Z
UID:10000072-1736860500-1736864100@netzwerk.immo
SUMMARY:Webinar Energiewende bezahlbar meistern
DESCRIPTION:Fachseminar: neuester Stand der Heizungstechnik sowie Konsequenzen\, die sich daraus für die Hausverwaltungen ergeben
URL:https://netzwerk.immo/event/webinar-energiewende-bezahlbar-meistern-8/
CATEGORIES:Videotermin
ATTACH;FMTTYPE=image/png:https://netzwerk.immo/wp-content/uploads/2023/11/NetzwerImmo2.png
ORGANIZER;CN="Netzwerk.Immo":MAILTO:service@netzwerk.immo
END:VEVENT
BEGIN:VEVENT
DTSTART;TZID=Europe/Berlin:20250113T163000
DTEND;TZID=Europe/Berlin:20250113T173000
DTSTAMP:20260423T233654
CREATED:20250108T113644Z
LAST-MODIFIED:20250108T113647Z
UID:10000070-1736785800-1736789400@netzwerk.immo
SUMMARY:Webinar Energiewende bezahlbar meistern
DESCRIPTION:Fachseminar: neuester Stand der Heizungstechnik sowie Konsequenzen\, die sich daraus für die Hausverwaltungen ergeben
URL:https://netzwerk.immo/event/webinar-energiewende-bezahlbar-meistern-5/
CATEGORIES:Videotermin
ATTACH;FMTTYPE=image/png:https://netzwerk.immo/wp-content/uploads/2023/11/NetzwerImmo2.png
ORGANIZER;CN="Netzwerk.Immo":MAILTO:service@netzwerk.immo
END:VEVENT
BEGIN:VEVENT
DTSTART;TZID=Europe/Berlin:20250113T140000
DTEND;TZID=Europe/Berlin:20250113T150000
DTSTAMP:20260423T233654
CREATED:20241125T120617Z
LAST-MODIFIED:20250113T104412Z
UID:10000062-1736776800-1736780400@netzwerk.immo
SUMMARY:Webinar Energiewende bezahlbar meistern
DESCRIPTION:Fachseminar: neuester Stand der Heizungstechnik sowie Konsequenzen\, die sich daraus für die Hausverwaltungen ergeben
URL:https://netzwerk.immo/event/webinar-energiewende-bezahlbar-meistern/
CATEGORIES:Videotermin
ATTACH;FMTTYPE=image/png:https://netzwerk.immo/wp-content/uploads/2023/11/NetzwerImmo2.png
ORGANIZER;CN="Netzwerk.Immo":MAILTO:service@netzwerk.immo
END:VEVENT
BEGIN:VEVENT
DTSTART;TZID=Europe/Berlin:20250107T163000
DTEND;TZID=Europe/Berlin:20250107T173000
DTSTAMP:20260423T233654
CREATED:20241118T173722Z
LAST-MODIFIED:20241125T120504Z
UID:10000065-1736267400-1736271000@netzwerk.immo
SUMMARY:Webinar Energiewende bezahlbar meistern
DESCRIPTION:Fachseminar: neuester Stand der Heizungstechnik sowie Konsequenzen\, die sich daraus für die Hausverwaltungen ergeben
URL:https://netzwerk.immo/event/seminar-geg-loesungen-fuer-die-hausverwaltung-5/
CATEGORIES:Videotermin
ATTACH;FMTTYPE=image/png:https://netzwerk.immo/wp-content/uploads/2023/11/NetzwerImmo2.png
ORGANIZER;CN="Netzwerk.Immo":MAILTO:service@netzwerk.immo
END:VEVENT
BEGIN:VEVENT
DTSTART;TZID=Europe/Berlin:20250107T140000
DTEND;TZID=Europe/Berlin:20250107T150000
DTSTAMP:20260423T233654
CREATED:20241211T115158Z
LAST-MODIFIED:20241211T115200Z
UID:10000066-1736258400-1736262000@netzwerk.immo
SUMMARY:Webinar Energiewende bezahlbar meistern
DESCRIPTION:Fachseminar: neuester Stand der Heizungstechnik sowie Konsequenzen\, die sich daraus für die Hausverwaltungen ergeben
URL:https://netzwerk.immo/event/webinar-energiewende-bezahlbar-meistern-2/
CATEGORIES:Videotermin
ATTACH;FMTTYPE=image/png:https://netzwerk.immo/wp-content/uploads/2023/11/NetzwerImmo2.png
ORGANIZER;CN="Netzwerk.Immo":MAILTO:service@netzwerk.immo
END:VEVENT
BEGIN:VEVENT
DTSTART;TZID=Europe/Berlin:20241216T140000
DTEND;TZID=Europe/Berlin:20241216T150000
DTSTAMP:20260423T233654
CREATED:20241211T115327Z
LAST-MODIFIED:20241211T115329Z
UID:10000067-1734357600-1734361200@netzwerk.immo
SUMMARY:Webinar Energiewende bezahlbar meistern
DESCRIPTION:Fachseminar: neuester Stand der Heizungstechnik sowie Konsequenzen\, die sich daraus für die Hausverwaltungen ergeben
URL:https://netzwerk.immo/event/webinar-energiewende-bezahlbar-meistern-3/
CATEGORIES:Videotermin
ATTACH;FMTTYPE=image/png:https://netzwerk.immo/wp-content/uploads/2023/11/NetzwerImmo2.png
ORGANIZER;CN="Netzwerk.Immo":MAILTO:service@netzwerk.immo
END:VEVENT
BEGIN:VEVENT
DTSTART;TZID=Europe/Berlin:20241209T163000
DTEND;TZID=Europe/Berlin:20241209T173000
DTSTAMP:20260423T233654
CREATED:20241118T173352Z
LAST-MODIFIED:20241125T120542Z
UID:10000063-1733761800-1733765400@netzwerk.immo
SUMMARY:Webinar Energiewende bezahlbar meistern
DESCRIPTION:Fachseminar: neuester Stand der Heizungstechnik sowie Konsequenzen\, die sich daraus für die Hausverwaltungen ergeben
URL:https://netzwerk.immo/event/seminar-geg-loesungen-fuer-die-hausverwaltung-3/
CATEGORIES:Videotermin
ATTACH;FMTTYPE=image/png:https://netzwerk.immo/wp-content/uploads/2023/11/NetzwerImmo2.png
ORGANIZER;CN="Netzwerk.Immo":MAILTO:service@netzwerk.immo
END:VEVENT
BEGIN:VEVENT
DTSTART;TZID=Europe/Berlin:20241202T163000
DTEND;TZID=Europe/Berlin:20241202T173000
DTSTAMP:20260423T233654
CREATED:20241022T092827Z
LAST-MODIFIED:20241125T120709Z
UID:10000058-1733157000-1733160600@netzwerk.immo
SUMMARY:Webinar Energiewende bezahlbar meistern
DESCRIPTION:Fachseminar: neuester Stand der Heizungstechnik sowie Konsequenzen\, die sich daraus für die Hausverwaltungen ergeben
URL:https://netzwerk.immo/event/seminar-geg-loesungen-fuer-die-hausverwaltung-2/
CATEGORIES:Videotermin
ATTACH;FMTTYPE=image/png:https://netzwerk.immo/wp-content/uploads/2023/11/NetzwerImmo2.png
ORGANIZER;CN="Netzwerk.Immo":MAILTO:service@netzwerk.immo
END:VEVENT
BEGIN:VEVENT
DTSTART;TZID=Europe/Berlin:20241125T163000
DTEND;TZID=Europe/Berlin:20241125T173000
DTSTAMP:20260423T233654
CREATED:20241022T093257Z
LAST-MODIFIED:20241125T120744Z
UID:10000061-1732552200-1732555800@netzwerk.immo
SUMMARY:Webinar Energiewende bezahlbar meistern
DESCRIPTION:Fachseminar: neuester Stand der Heizungstechnik sowie Konsequenzen\, die sich daraus für die Hausverwaltungen ergeben
URL:https://netzwerk.immo/event/seminar-heizrevolution-2024-32/
CATEGORIES:Videotermin
ATTACH;FMTTYPE=image/png:https://netzwerk.immo/wp-content/uploads/2023/11/NetzwerImmo2.png
ORGANIZER;CN="Netzwerk.Immo":MAILTO:service@netzwerk.immo
END:VEVENT
BEGIN:VEVENT
DTSTART;TZID=Europe/Berlin:20241118T163000
DTEND;TZID=Europe/Berlin:20241118T173000
DTSTAMP:20260423T233654
CREATED:20241022T093143Z
LAST-MODIFIED:20241022T093145Z
UID:10000060-1731947400-1731951000@netzwerk.immo
SUMMARY:Seminar Heizrevolution 2024
DESCRIPTION:Fachseminar: neuester Stand der Heizungstechnik sowie Konsequenzen\, die sich daraus für die Hausverwaltungen ergeben
URL:https://netzwerk.immo/event/seminar-heizrevolution-2024-31/
CATEGORIES:Videotermin
ATTACH;FMTTYPE=image/png:https://netzwerk.immo/wp-content/uploads/2023/11/NetzwerImmo2.png
ORGANIZER;CN="Netzwerk.Immo":MAILTO:service@netzwerk.immo
END:VEVENT
END:VCALENDAR